BEGIN:VCALENDAR
VERSION:2.0
PRODID:spatie/icalendar-generator
DESCRIPTION:Events from Yardley\, PA
X-WR-CALDESC:Events from Yardley\, PA
REFRESH-INTERVAL;VALUE=DURATION:PT1440M
X-PUBLISHED-TTL:PT1440M
BEGIN:VTIMEZONE
TZID:Etc/GMT+0
BEGIN:STANDARD
DTSTART:20250719T000000Z
TZOFFSETFROM:+0000
TZOFFSETTO:+0000
END:STANDARD
END:VTIMEZONE
BEGIN:VTIMEZONE
TZID:UTC
BEGIN:STANDARD
DTSTART:20250729T062719Z
TZOFFSETFROM:+0000
TZOFFSETTO:+0000
END:STANDARD
END:VTIMEZONE
BEGIN:VEVENT
UID:883-121
DTSTAMP:20260425T062719Z
SUMMARY:Open House!
LOCATION:
ORGANIZER;CN=kdorff:MAILTO:kdorff@lightbridgeacademy.com
DTSTART;TZID=Etc/GMT+0;VALUE=DATE:20260415
DTEND;TZID=Etc/GMT+0;VALUE=DATE:20260516
X-ALT-DESC;FMTTYPE=TEXT/HTML:Get 1 week free when you enroll by May 15th Sp
 aces limited!
CATEGORIES:General
URL;VALUE=URI:https://lightbridgeacademy.com/yardley-pa/mc-events/open-hous
 e/
METHOD:PUBLISH
END:VEVENT
END:VCALENDAR