BEGIN:VCALENDAR
VERSION:2.0
PRODID:spatie/icalendar-generator
DESCRIPTION:Events from Willow Grove\, PA
X-WR-CALDESC:Events from Willow Grove\, PA
REFRESH-INTERVAL;VALUE=DURATION:PT1440M
X-PUBLISHED-TTL:PT1440M
BEGIN:VTIMEZONE
TZID:Etc/GMT+0
BEGIN:STANDARD
DTSTART:20250707T000000Z
TZOFFSETFROM:+0000
TZOFFSETTO:+0000
END:STANDARD
END:VTIMEZONE
BEGIN:VTIMEZONE
TZID:UTC
BEGIN:STANDARD
DTSTART:20250726T114522Z
TZOFFSETFROM:+0000
TZOFFSETTO:+0000
END:STANDARD
END:VTIMEZONE
BEGIN:VEVENT
UID:888-443
DTSTAMP:20260422T114522Z
SUMMARY:Spring Holiday - CENTER CLOSED
LOCATION:
ORGANIZER;CN=kwesolowski@lightbridgeacademy.com:MAILTO:KWesolowski@lightbri
 dgeacademy.com
DTSTART;TZID=Etc/GMT+0:20260403T000000
DTEND;TZID=Etc/GMT+0:20260403T010000
X-ALT-DESC;FMTTYPE=TEXT/HTML:
CATEGORIES:General
URL;VALUE=URI:https://lightbridgeacademy.com/willow-grove-pa/mc-events/spri
 ng-holiday-center-closed-2/
METHOD:PUBLISH
END:VEVENT
END:VCALENDAR