BEGIN:VCALENDAR
VERSION:2.0
PRODID:spatie/icalendar-generator
DESCRIPTION:Events from West Caldwell\, NJ
X-WR-CALDESC:Events from West Caldwell\, NJ
REFRESH-INTERVAL;VALUE=DURATION:PT1440M
X-PUBLISHED-TTL:PT1440M
BEGIN:VTIMEZONE
TZID:Etc/GMT+0
BEGIN:STANDARD
DTSTART:20250719T070000Z
TZOFFSETFROM:+0000
TZOFFSETTO:+0000
END:STANDARD
END:VTIMEZONE
BEGIN:VTIMEZONE
TZID:UTC
BEGIN:STANDARD
DTSTART:20250723T162221Z
TZOFFSETFROM:+0000
TZOFFSETTO:+0000
END:STANDARD
END:VTIMEZONE
BEGIN:VEVENT
UID:534-498
DTSTAMP:20260419T162221Z
SUMMARY:Open House Week!
LOCATION:
ORGANIZER;CN=szazzera@lightbridgeacademy.com:MAILTO:SZazzera@lightbridgeaca
 demy.com
DTSTART;TZID=Etc/GMT+0:20260415T070000
DTEND;TZID=Etc/GMT+0:20260515T183000
X-ALT-DESC;FMTTYPE=TEXT/HTML:
CATEGORIES:General
URL;VALUE=URI:https://lightbridgeacademy.com/west-caldwell-nj/mc-events/ope
 n-house-week-5/
METHOD:PUBLISH
END:VEVENT
END:VCALENDAR