BEGIN:VCALENDAR
VERSION:2.0
PRODID:spatie/icalendar-generator
DESCRIPTION:Events from West Caldwell\, NJ
X-WR-CALDESC:Events from West Caldwell\, NJ
REFRESH-INTERVAL;VALUE=DURATION:PT1440M
X-PUBLISHED-TTL:PT1440M
BEGIN:VTIMEZONE
TZID:Etc/GMT+0
BEGIN:STANDARD
DTSTART:20250730T000000Z
TZOFFSETFROM:+0000
TZOFFSETTO:+0000
END:STANDARD
END:VTIMEZONE
BEGIN:VTIMEZONE
TZID:UTC
BEGIN:STANDARD
DTSTART:20250723T162140Z
TZOFFSETFROM:+0000
TZOFFSETTO:+0000
END:STANDARD
END:VTIMEZONE
BEGIN:VEVENT
UID:499-497
DTSTAMP:20260419T162140Z
SUMMARY:Arbor Day! Plant a Tree!
LOCATION:
ORGANIZER;CN=szazzera@lightbridgeacademy.com:MAILTO:SZazzera@lightbridgeaca
 demy.com
DTSTART;TZID=Etc/GMT+0:20260426T000000
DTEND;TZID=Etc/GMT+0:20260426T010000
X-ALT-DESC;FMTTYPE=TEXT/HTML:
CATEGORIES:General
URL;VALUE=URI:https://lightbridgeacademy.com/west-caldwell-nj/mc-events/arb
 or-day-plant-a-tree/
METHOD:PUBLISH
END:VEVENT
END:VCALENDAR