BEGIN:VCALENDAR
VERSION:2.0
PRODID:spatie/icalendar-generator
DESCRIPTION:Events from West Caldwell\, NJ
X-WR-CALDESC:Events from West Caldwell\, NJ
REFRESH-INTERVAL;VALUE=DURATION:PT1440M
X-PUBLISHED-TTL:PT1440M
BEGIN:VTIMEZONE
TZID:Etc/GMT+0
BEGIN:STANDARD
DTSTART:20250727T000000Z
TZOFFSETFROM:+0000
TZOFFSETTO:+0000
END:STANDARD
END:VTIMEZONE
BEGIN:VTIMEZONE
TZID:UTC
BEGIN:STANDARD
DTSTART:20250723T162108Z
TZOFFSETFROM:+0000
TZOFFSETTO:+0000
END:STANDARD
END:VTIMEZONE
BEGIN:VEVENT
UID:497-495
DTSTAMP:20260419T162108Z
SUMMARY:Picnic Day!   Wear Checkers!
LOCATION:
ORGANIZER;CN=szazzera@lightbridgeacademy.com:MAILTO:SZazzera@lightbridgeaca
 demy.com
DTSTART;TZID=Etc/GMT+0:20260423T000000
DTEND;TZID=Etc/GMT+0:20260423T010000
X-ALT-DESC;FMTTYPE=TEXT/HTML:
CATEGORIES:General
URL;VALUE=URI:https://lightbridgeacademy.com/west-caldwell-nj/mc-events/pic
 nic-day-wear-checkers/
METHOD:PUBLISH
END:VEVENT
END:VCALENDAR