BEGIN:VCALENDAR
VERSION:2.0
PRODID:spatie/icalendar-generator
DESCRIPTION:Events from Valhalla\, NY
X-WR-CALDESC:Events from Valhalla\, NY
REFRESH-INTERVAL;VALUE=DURATION:PT1440M
X-PUBLISHED-TTL:PT1440M
BEGIN:VTIMEZONE
TZID:Etc/GMT+0
BEGIN:STANDARD
DTSTART:20250719T000000Z
TZOFFSETFROM:+0000
TZOFFSETTO:+0000
END:STANDARD
END:VTIMEZONE
BEGIN:VTIMEZONE
TZID:UTC
BEGIN:STANDARD
DTSTART:20250726T163005Z
TZOFFSETFROM:+0000
TZOFFSETTO:+0000
END:STANDARD
END:VTIMEZONE
BEGIN:VEVENT
UID:530-201
DTSTAMP:20260422T163005Z
SUMMARY:Open House
LOCATION:
ORGANIZER;CN=azielinski:MAILTO:azielinski@lightbridgeacademy.com
DTSTART;TZID=Etc/GMT+0;VALUE=DATE:20260415
DTEND;TZID=Etc/GMT+0;VALUE=DATE:20260516
X-ALT-DESC;FMTTYPE=TEXT/HTML:Tour with us today to discover all that Lightb
 ridge Academy of Valhalla has to offer and learn how your family can recei
 ve one week free when you enroll!
CATEGORIES:General
URL;VALUE=URI:https://lightbridgeacademy.com/valhalla-ny/mc-events/open-hou
 se-4/
METHOD:PUBLISH
END:VEVENT
END:VCALENDAR