BEGIN:VCALENDAR
VERSION:2.0
PRODID:spatie/icalendar-generator
DESCRIPTION:Events from Troy\, MI
X-WR-CALDESC:Events from Troy\, MI
REFRESH-INTERVAL;VALUE=DURATION:PT1440M
X-PUBLISHED-TTL:PT1440M
BEGIN:VTIMEZONE
TZID:Etc/GMT+0
BEGIN:STANDARD
DTSTART:20250714T000000Z
TZOFFSETFROM:+0000
TZOFFSETTO:+0000
END:STANDARD
END:VTIMEZONE
BEGIN:VTIMEZONE
TZID:UTC
BEGIN:STANDARD
DTSTART:20250725T163258Z
TZOFFSETFROM:+0000
TZOFFSETTO:+0000
END:STANDARD
END:VTIMEZONE
BEGIN:VEVENT
UID:230-111
DTSTAMP:20260421T163258Z
SUMMARY:National Sibling Day 👶🧒
LOCATION:
ORGANIZER;CN=jayeshpatel:MAILTO:jayesh.patel@lightbridgeacademy.com
DTSTART;TZID=Etc/GMT+0;VALUE=DATE:20260410
DTEND;TZID=Etc/GMT+0;VALUE=DATE:20260411
X-ALT-DESC;FMTTYPE=TEXT/HTML:
CATEGORIES:General
URL;VALUE=URI:https://lightbridgeacademy.com/troy-mi/mc-events/national-sib
 ling-day-%f0%9f%91%b6%f0%9f%a7%92/
METHOD:PUBLISH
END:VEVENT
END:VCALENDAR