BEGIN:VCALENDAR
VERSION:2.0
PRODID:spatie/icalendar-generator
DESCRIPTION:Events from Troy\, MI
X-WR-CALDESC:Events from Troy\, MI
REFRESH-INTERVAL;VALUE=DURATION:PT1440M
X-PUBLISHED-TTL:PT1440M
BEGIN:VTIMEZONE
TZID:Etc/GMT+0
BEGIN:STANDARD
DTSTART:20250729T100000Z
TZOFFSETFROM:+0000
TZOFFSETTO:+0000
END:STANDARD
END:VTIMEZONE
BEGIN:VTIMEZONE
TZID:UTC
BEGIN:STANDARD
DTSTART:20250725T163259Z
TZOFFSETFROM:+0000
TZOFFSETTO:+0000
END:STANDARD
END:VTIMEZONE
BEGIN:VEVENT
UID:229-115
DTSTAMP:20260421T163259Z
SUMMARY:Grand Opening Celebration 🥳🎉🎊
LOCATION:
ORGANIZER;CN=jayeshpatel:MAILTO:jayesh.patel@lightbridgeacademy.com
DTSTART;TZID=Etc/GMT+0:20260425T100000
DTEND;TZID=Etc/GMT+0:20260425T150000
X-ALT-DESC;FMTTYPE=TEXT/HTML:
CATEGORIES:General
URL;VALUE=URI:https://lightbridgeacademy.com/troy-mi/mc-events/grand-openin
 g-celebration-%f0%9f%a5%b3%f0%9f%8e%89%f0%9f%8e%8a/
METHOD:PUBLISH
END:VEVENT
END:VCALENDAR