BEGIN:VCALENDAR
VERSION:2.0
PRODID:spatie/icalendar-generator
DESCRIPTION:Events from Tampa Westchase\, FL
X-WR-CALDESC:Events from Tampa Westchase\, FL
REFRESH-INTERVAL;VALUE=DURATION:PT1440M
X-PUBLISHED-TTL:PT1440M
BEGIN:VTIMEZONE
TZID:Etc/GMT+0
BEGIN:STANDARD
DTSTART:20250722T000000Z
TZOFFSETFROM:+0000
TZOFFSETTO:+0000
END:STANDARD
END:VTIMEZONE
BEGIN:VTIMEZONE
TZID:UTC
BEGIN:STANDARD
DTSTART:20250726T163020Z
TZOFFSETFROM:+0000
TZOFFSETTO:+0000
END:STANDARD
END:VTIMEZONE
BEGIN:VEVENT
UID:38-20
DTSTAMP:20260422T163020Z
SUMMARY:Your Invited!
LOCATION:
ORGANIZER;CN=sclark:MAILTO:sclark@lightbridgeacademy.com
DTSTART;TZID=Etc/GMT+0;VALUE=DATE:20260418
DTEND;TZID=Etc/GMT+0;VALUE=DATE:20260419
X-ALT-DESC;FMTTYPE=TEXT/HTML:🌟 You're Invited! 🌟 This Saturday\, we
 ’re opening our schedule for tours\, and we’d love for you to join us!
  Come explore a virtual tour of our beautiful\, state-of-the-art school an
 d discover what makes us the perfect fit for your family. During your visi
 t\, you’ll learn about: ✨ Secure facial recognition entry 🌱 Our exc
 lusive&amp;hellip\;
CATEGORIES:General
URL;VALUE=URI:https://lightbridgeacademy.com/tampa-westchase-fl/mc-events/y
 our-invited/
METHOD:PUBLISH
END:VEVENT
END:VCALENDAR