BEGIN:VCALENDAR
VERSION:2.0
PRODID:spatie/icalendar-generator
DESCRIPTION:Events from Tampa Westchase\, FL
X-WR-CALDESC:Events from Tampa Westchase\, FL
REFRESH-INTERVAL;VALUE=DURATION:PT1440M
X-PUBLISHED-TTL:PT1440M
BEGIN:VTIMEZONE
TZID:Etc/GMT+0
BEGIN:STANDARD
DTSTART:20250727T000000Z
TZOFFSETFROM:+0000
TZOFFSETTO:+0000
END:STANDARD
END:VTIMEZONE
BEGIN:VTIMEZONE
TZID:UTC
BEGIN:STANDARD
DTSTART:20250726T163019Z
TZOFFSETFROM:+0000
TZOFFSETTO:+0000
END:STANDARD
END:VTIMEZONE
BEGIN:VEVENT
UID:35-21
DTSTAMP:20260422T163019Z
SUMMARY:Take Your Child to Work Day!
LOCATION:
ORGANIZER;CN=sclark:MAILTO:sclark@lightbridgeacademy.com
DTSTART;TZID=Etc/GMT+0;VALUE=DATE:20260423
DTEND;TZID=Etc/GMT+0;VALUE=DATE:20260424
X-ALT-DESC;FMTTYPE=TEXT/HTML:👨‍👩‍👧‍👦 Take Your Sons &amp;amp\
 ; Daughters to Work Day! 👩‍👧‍👦👨‍👦 Today we celebrate 
 the joy of learning\, curiosity\, and the special bond between parents and
  their children! 💼✨ Take Your Sons &amp;amp\; Daughters to Work Day is a 
 wonderful opportunity for children to explore what their parents do\, ask 
 questions\, and imagine their own futures.&amp;hellip\;
CATEGORIES:General
URL;VALUE=URI:https://lightbridgeacademy.com/tampa-westchase-fl/mc-events/t
 ake-your-child-to-work-day/
METHOD:PUBLISH
END:VEVENT
END:VCALENDAR