BEGIN:VCALENDAR
VERSION:2.0
PRODID:spatie/icalendar-generator
DESCRIPTION:Events from Tampa Westchase\, FL
X-WR-CALDESC:Events from Tampa Westchase\, FL
REFRESH-INTERVAL;VALUE=DURATION:PT1440M
X-PUBLISHED-TTL:PT1440M
BEGIN:VTIMEZONE
TZID:Etc/GMT+0
BEGIN:STANDARD
DTSTART:20250721T150000Z
TZOFFSETFROM:+0000
TZOFFSETTO:+0000
END:STANDARD
END:VTIMEZONE
BEGIN:VTIMEZONE
TZID:UTC
BEGIN:STANDARD
DTSTART:20250726T163003Z
TZOFFSETFROM:+0000
TZOFFSETTO:+0000
END:STANDARD
END:VTIMEZONE
BEGIN:VEVENT
UID:30-19
DTSTAMP:20260422T163003Z
SUMMARY:You're Invited: Family Fun Night – April 17th!
LOCATION:
ORGANIZER;CN=sclark:MAILTO:sclark@lightbridgeacademy.com
DTSTART;TZID=Etc/GMT+0:20260417T150000
DTEND;TZID=Etc/GMT+0:20260417T175900
X-ALT-DESC;FMTTYPE=TEXT/HTML:We are excited to invite you to our Family Fun
  Night at Lightbridge Academy of Westchase! Join us on April 17th from 3:0
 0 PM to 5:00 PM for an afternoon filled with fun\, laughter\, and quality 
 time together as a community. 📍 Location: Our temporary Welcome Office 
 inside Let’sCo Oldsmar 301 Woodlands Pkwy\, Suite 3&amp;hellip\;
CATEGORIES:General
URL;VALUE=URI:https://lightbridgeacademy.com/tampa-westchase-fl/mc-events/y
 oure-invited-family-fun-night-april-17th/
METHOD:PUBLISH
END:VEVENT
END:VCALENDAR