BEGIN:VCALENDAR
VERSION:2.0
PRODID:spatie/icalendar-generator
DESCRIPTION:Events from Summit\, NJ
X-WR-CALDESC:Events from Summit\, NJ
REFRESH-INTERVAL;VALUE=DURATION:PT1440M
X-PUBLISHED-TTL:PT1440M
BEGIN:VTIMEZONE
TZID:Etc/GMT+0
BEGIN:STANDARD
DTSTART:20250804T000000Z
TZOFFSETFROM:+0000
TZOFFSETTO:+0000
END:STANDARD
END:VTIMEZONE
BEGIN:VTIMEZONE
TZID:UTC
BEGIN:STANDARD
DTSTART:20250725T163258Z
TZOFFSETFROM:+0000
TZOFFSETTO:+0000
END:STANDARD
END:VTIMEZONE
BEGIN:VEVENT
UID:246-20
DTSTAMP:20260421T163258Z
SUMMARY:Pizza Fridays
LOCATION:
ORGANIZER;CN=mpayne@lightbridgeacademy.com:MAILTO:mpayne@lightbridgeacademy
 .com
RRULE:FREQ=WEEKLY;UNTIL=20260807T000000Z
DTSTART;TZID=Etc/GMT+0;VALUE=DATE:20260501
DTEND;TZID=Etc/GMT+0;VALUE=DATE:20260502
X-ALT-DESC;FMTTYPE=TEXT/HTML:
CATEGORIES:General
URL;VALUE=URI:https://lightbridgeacademy.com/summit-nj/mc-events/pizza-frid
 ays/?mc_id=246
METHOD:PUBLISH
END:VEVENT
END:VCALENDAR