BEGIN:VCALENDAR
VERSION:2.0
PRODID:spatie/icalendar-generator
DESCRIPTION:Events from South Brunswick\, NJ
X-WR-CALDESC:Events from South Brunswick\, NJ
REFRESH-INTERVAL;VALUE=DURATION:PT1440M
X-PUBLISHED-TTL:PT1440M
BEGIN:VTIMEZONE
TZID:Etc/GMT+0
BEGIN:STANDARD
DTSTART:20250719T090000Z
TZOFFSETFROM:+0000
TZOFFSETTO:+0000
END:STANDARD
END:VTIMEZONE
BEGIN:VTIMEZONE
TZID:UTC
BEGIN:STANDARD
DTSTART:20250725T073556Z
TZOFFSETFROM:+0000
TZOFFSETTO:+0000
END:STANDARD
END:VTIMEZONE
BEGIN:VEVENT
UID:583-464
DTSTAMP:20260421T073556Z
SUMMARY:April Open House!
LOCATION:
ORGANIZER;CN=rayachi@lightbridgeacademy.com:MAILTO:rayachi@lightbridgeacade
 my.com
DTSTART;TZID=Etc/GMT+0:20260415T090000
DTEND;TZID=Etc/GMT+0:20260515T100000
X-ALT-DESC;FMTTYPE=TEXT/HTML:
CATEGORIES:General
URL;VALUE=URI:https://lightbridgeacademy.com/south-brunswick-nj/mc-events/a
 pril-open-house/
METHOD:PUBLISH
END:VEVENT
END:VCALENDAR