BEGIN:VCALENDAR
VERSION:2.0
PRODID:spatie/icalendar-generator
DESCRIPTION:Events from Shrewsbury\, NJ
X-WR-CALDESC:Events from Shrewsbury\, NJ
REFRESH-INTERVAL;VALUE=DURATION:PT1440M
X-PUBLISHED-TTL:PT1440M
BEGIN:VTIMEZONE
TZID:Etc/GMT+0
BEGIN:STANDARD
DTSTART:20250801T000000Z
TZOFFSETFROM:+0000
TZOFFSETTO:+0000
END:STANDARD
END:VTIMEZONE
BEGIN:VTIMEZONE
TZID:UTC
BEGIN:STANDARD
DTSTART:20250727T114529Z
TZOFFSETFROM:+0000
TZOFFSETTO:+0000
END:STANDARD
END:VTIMEZONE
BEGIN:VEVENT
UID:451-367
DTSTAMP:20260423T114529Z
SUMMARY:National Superhero Day
LOCATION:
ORGANIZER;CN=mgomes:MAILTO:MGomes@lightbridgeacademy.com
DTSTART;TZID=Etc/GMT+0;VALUE=DATE:20260428
DTEND;TZID=Etc/GMT+0;VALUE=DATE:20260429
X-ALT-DESC;FMTTYPE=TEXT/HTML:Dress up as your favorite superhero or wear a 
 superhero T-shirt!
CATEGORIES:General
URL;VALUE=URI:https://lightbridgeacademy.com/shrewsbury-nj/mc-events/nation
 al-superhero-day-2/
METHOD:PUBLISH
END:VEVENT
END:VCALENDAR