BEGIN:VCALENDAR
VERSION:2.0
PRODID:spatie/icalendar-generator
DESCRIPTION:Events from Shrewsbury\, NJ
X-WR-CALDESC:Events from Shrewsbury\, NJ
REFRESH-INTERVAL;VALUE=DURATION:PT1440M
X-PUBLISHED-TTL:PT1440M
BEGIN:VTIMEZONE
TZID:Etc/GMT+0
BEGIN:STANDARD
DTSTART:20250726T000000Z
TZOFFSETFROM:+0000
TZOFFSETTO:+0000
END:STANDARD
END:VTIMEZONE
BEGIN:VTIMEZONE
TZID:UTC
BEGIN:STANDARD
DTSTART:20250727T114236Z
TZOFFSETFROM:+0000
TZOFFSETTO:+0000
END:STANDARD
END:VTIMEZONE
BEGIN:VEVENT
UID:449-365
DTSTAMP:20260423T114236Z
SUMMARY:Earth Day
LOCATION:
ORGANIZER;CN=mgomes:MAILTO:MGomes@lightbridgeacademy.com
DTSTART;TZID=Etc/GMT+0;VALUE=DATE:20260422
DTEND;TZID=Etc/GMT+0;VALUE=DATE:20260423
X-ALT-DESC;FMTTYPE=TEXT/HTML:Fun Earth Day projects today!
CATEGORIES:General
URL;VALUE=URI:https://lightbridgeacademy.com/shrewsbury-nj/mc-events/earth-
 day-2/
METHOD:PUBLISH
END:VEVENT
END:VCALENDAR