BEGIN:VCALENDAR
VERSION:2.0
PRODID:spatie/icalendar-generator
DESCRIPTION:Events from Shrewsbury\, NJ
X-WR-CALDESC:Events from Shrewsbury\, NJ
REFRESH-INTERVAL;VALUE=DURATION:PT1440M
X-PUBLISHED-TTL:PT1440M
BEGIN:VTIMEZONE
TZID:Etc/GMT+0
BEGIN:STANDARD
DTSTART:20250707T000000Z
TZOFFSETFROM:+0000
TZOFFSETTO:+0000
END:STANDARD
END:VTIMEZONE
BEGIN:VTIMEZONE
TZID:UTC
BEGIN:STANDARD
DTSTART:20250727T114235Z
TZOFFSETFROM:+0000
TZOFFSETTO:+0000
END:STANDARD
END:VTIMEZONE
BEGIN:VEVENT
UID:439-355
DTSTAMP:20260423T114235Z
SUMMARY:Good Friday
LOCATION:
ORGANIZER;CN=mgomes:MAILTO:MGomes@lightbridgeacademy.com
DTSTART;TZID=Etc/GMT+0;VALUE=DATE:20260403
DTEND;TZID=Etc/GMT+0;VALUE=DATE:20260404
X-ALT-DESC;FMTTYPE=TEXT/HTML:School Closed
CATEGORIES:General
URL;VALUE=URI:https://lightbridgeacademy.com/shrewsbury-nj/mc-events/good-f
 riday-2/
METHOD:PUBLISH
END:VEVENT
END:VCALENDAR