BEGIN:VCALENDAR
VERSION:2.0
PRODID:spatie/icalendar-generator
DESCRIPTION:Events from Rutherford\, NJ
X-WR-CALDESC:Events from Rutherford\, NJ
REFRESH-INTERVAL;VALUE=DURATION:PT1440M
X-PUBLISHED-TTL:PT1440M
BEGIN:VTIMEZONE
TZID:Etc/GMT+0
BEGIN:STANDARD
DTSTART:20250719T000000Z
TZOFFSETFROM:+0000
TZOFFSETTO:+0000
END:STANDARD
END:VTIMEZONE
BEGIN:VTIMEZONE
TZID:UTC
BEGIN:STANDARD
DTSTART:20250723T123850Z
TZOFFSETFROM:+0000
TZOFFSETTO:+0000
END:STANDARD
END:VTIMEZONE
BEGIN:VEVENT
UID:888-779
DTSTAMP:20260419T123850Z
SUMMARY:OPEN HOUSE
LOCATION:
ORGANIZER;CN=tcamota:MAILTO:tcamota@lightbridgeacademy.com
DTSTART;TZID=Etc/GMT+0;VALUE=DATE:20260415
DTEND;TZID=Etc/GMT+0;VALUE=DATE:20260516
X-ALT-DESC;FMTTYPE=TEXT/HTML:
CATEGORIES:General
URL;VALUE=URI:https://lightbridgeacademy.com/rutherford-nj/mc-events/open-h
 ouse/
METHOD:PUBLISH
END:VEVENT
END:VCALENDAR