BEGIN:VCALENDAR
VERSION:2.0
PRODID:spatie/icalendar-generator
DESCRIPTION:Events from Ramsey\, MN
X-WR-CALDESC:Events from Ramsey\, MN
REFRESH-INTERVAL;VALUE=DURATION:PT1440M
X-PUBLISHED-TTL:PT1440M
BEGIN:VTIMEZONE
TZID:Etc/GMT+0
BEGIN:STANDARD
DTSTART:20250726T170000Z
TZOFFSETFROM:+0000
TZOFFSETTO:+0000
END:STANDARD
END:VTIMEZONE
BEGIN:VTIMEZONE
TZID:UTC
BEGIN:STANDARD
DTSTART:20250726T171021Z
TZOFFSETFROM:+0000
TZOFFSETTO:+0000
END:STANDARD
END:VTIMEZONE
BEGIN:VEVENT
UID:94-93
DTSTAMP:20260422T171021Z
SUMMARY:Open House and Preschool/PreK Curriculum Night!
LOCATION:
ORGANIZER;CN=mbauer:MAILTO:mbauer@lightbridgeacademy.com
DTSTART;TZID=Etc/GMT+0:20260422T170000
DTEND;TZID=Etc/GMT+0:20260422T190000
X-ALT-DESC;FMTTYPE=TEXT/HTML:a { text-decoration: none\; color: #464feb\; }
  tr th\, tr td { border: 1px solid #e6e6e6\; } tr th { background-color: #
 f5f5f5\; } Join us on Wed\, April 22nd from 5-7pm for our Open House and P
 reschool/Pre‑K Seedlings Curriculum Night. Families are invited to tour 
 our center and discover how our Seedlings curriculum nurtures learning\,&amp;h
 ellip\;
CATEGORIES:General
URL;VALUE=URI:https://lightbridgeacademy.com/ramsey-mn/mc-events/open-house
 -and-preschool-prek-curriculum-night/
METHOD:PUBLISH
END:VEVENT
END:VCALENDAR