BEGIN:VCALENDAR
VERSION:2.0
PRODID:spatie/icalendar-generator
DESCRIPTION:Events from Ramsey\, MN
X-WR-CALDESC:Events from Ramsey\, MN
REFRESH-INTERVAL;VALUE=DURATION:PT1440M
X-PUBLISHED-TTL:PT1440M
BEGIN:VTIMEZONE
TZID:Etc/GMT+0
BEGIN:STANDARD
DTSTART:20250720T100000Z
TZOFFSETFROM:+0000
TZOFFSETTO:+0000
END:STANDARD
END:VTIMEZONE
BEGIN:VTIMEZONE
TZID:UTC
BEGIN:STANDARD
DTSTART:20250726T170914Z
TZOFFSETFROM:+0000
TZOFFSETTO:+0000
END:STANDARD
END:VTIMEZONE
BEGIN:VEVENT
UID:93-92
DTSTAMP:20260422T170914Z
SUMMARY:Ribbon Cutting Ceremony!
LOCATION:
ORGANIZER;CN=mbauer:MAILTO:mbauer@lightbridgeacademy.com
DTSTART;TZID=Etc/GMT+0:20260416T100000
DTEND;TZID=Etc/GMT+0:20260416T113000
X-ALT-DESC;FMTTYPE=TEXT/HTML:We are so excited to finally be having our Rib
 bon Cutting Ceremony! Please join us for the wonderful celebration of our 
 opening!
CATEGORIES:General
URL;VALUE=URI:https://lightbridgeacademy.com/ramsey-mn/mc-events/ribbon-cut
 ting-ceremony/
METHOD:PUBLISH
END:VEVENT
END:VCALENDAR