BEGIN:VCALENDAR
VERSION:2.0
PRODID:spatie/icalendar-generator
DESCRIPTION:Events from Ramsey\, MN
X-WR-CALDESC:Events from Ramsey\, MN
REFRESH-INTERVAL;VALUE=DURATION:PT1440M
X-PUBLISHED-TTL:PT1440M
BEGIN:VTIMEZONE
TZID:Etc/GMT+0
BEGIN:STANDARD
DTSTART:20250729T090000Z
TZOFFSETFROM:+0000
TZOFFSETTO:+0000
END:STANDARD
END:VTIMEZONE
BEGIN:VTIMEZONE
TZID:UTC
BEGIN:STANDARD
DTSTART:20250726T170915Z
TZOFFSETFROM:+0000
TZOFFSETTO:+0000
END:STANDARD
END:VTIMEZONE
BEGIN:VEVENT
UID:90-89
DTSTAMP:20260422T170915Z
SUMMARY:Ramsey City Business Expo
LOCATION:
ORGANIZER;CN=mbauer:MAILTO:mbauer@lightbridgeacademy.com
DTSTART;TZID=Etc/GMT+0:20260425T090000
DTEND;TZID=Etc/GMT+0:20260425T130000
X-ALT-DESC;FMTTYPE=TEXT/HTML:Come out to see us at the Ramsey City Business
  Expo! We will have treats and fun giveaways!
CATEGORIES:General
URL;VALUE=URI:https://lightbridgeacademy.com/ramsey-mn/mc-events/ramsey-cit
 y-business-expo/
METHOD:PUBLISH
END:VEVENT
END:VCALENDAR