BEGIN:VCALENDAR
VERSION:2.0
PRODID:spatie/icalendar-generator
DESCRIPTION:Events from Ramsey\, MN
X-WR-CALDESC:Events from Ramsey\, MN
REFRESH-INTERVAL;VALUE=DURATION:PT1440M
X-PUBLISHED-TTL:PT1440M
BEGIN:VTIMEZONE
TZID:Etc/GMT+0
BEGIN:STANDARD
DTSTART:20250715T090000Z
TZOFFSETFROM:+0000
TZOFFSETTO:+0000
END:STANDARD
END:VTIMEZONE
BEGIN:VTIMEZONE
TZID:UTC
BEGIN:STANDARD
DTSTART:20250726T171001Z
TZOFFSETFROM:+0000
TZOFFSETTO:+0000
END:STANDARD
END:VTIMEZONE
BEGIN:VEVENT
UID:89-88
DTSTAMP:20260422T171001Z
SUMMARY:Spring Craft Show at Ramsey Adrenaline Sports Center
LOCATION:
ORGANIZER;CN=mbauer:MAILTO:mbauer@lightbridgeacademy.com
DTSTART;TZID=Etc/GMT+0:20260411T090000
DTEND;TZID=Etc/GMT+0:20260411T160000
X-ALT-DESC;FMTTYPE=TEXT/HTML:Come out to see us at the Spring Craft Show at
  the Ramsey Adrenaline Sports Center!
CATEGORIES:General
URL;VALUE=URI:https://lightbridgeacademy.com/ramsey-mn/mc-events/spring-cra
 ft-show-at-ramsey-adrenaline-sports-center/
METHOD:PUBLISH
END:VEVENT
END:VCALENDAR