BEGIN:VCALENDAR
VERSION:2.0
PRODID:spatie/icalendar-generator
DESCRIPTION:Events from Port St. Lucie\, FL
X-WR-CALDESC:Events from Port St. Lucie\, FL
REFRESH-INTERVAL;VALUE=DURATION:PT1440M
X-PUBLISHED-TTL:PT1440M
BEGIN:VTIMEZONE
TZID:Etc/GMT+0
BEGIN:STANDARD
DTSTART:20250729T090000Z
TZOFFSETFROM:+0000
TZOFFSETTO:+0000
END:STANDARD
END:VTIMEZONE
BEGIN:VTIMEZONE
TZID:UTC
BEGIN:STANDARD
DTSTART:20250726T163019Z
TZOFFSETFROM:+0000
TZOFFSETTO:+0000
END:STANDARD
END:VTIMEZONE
BEGIN:VEVENT
UID:97-80
DTSTAMP:20260422T163019Z
SUMMARY:St. Lucie County Safety Festival at Clover Park 9am - 2pm
LOCATION:
ORGANIZER;CN=Dawn Moonsammy:MAILTO:dmoonsammy@lightbridgeacademy.com
DTSTART;TZID=Etc/GMT+0:20260425T090000
DTEND;TZID=Etc/GMT+0:20260425T140000
X-ALT-DESC;FMTTYPE=TEXT/HTML:Excited to announce we'll be participating in 
 the St. Lucie County Safety Festival on Saturday\, April 25th! 🎉 Stop b
 y to learn about our programs that focus on early childhood safety and dev
 elopment. We look forward to seeing you there! 💙
CATEGORIES:General
URL;VALUE=URI:https://lightbridgeacademy.com/port-st-lucie-fl/mc-events/st-
 lucie-county-safety-festival-at-clover-park-9am-2pm/
METHOD:PUBLISH
END:VEVENT
END:VCALENDAR