BEGIN:VCALENDAR
VERSION:2.0
PRODID:spatie/icalendar-generator
DESCRIPTION:Events from Port St. Lucie\, FL
X-WR-CALDESC:Events from Port St. Lucie\, FL
REFRESH-INTERVAL;VALUE=DURATION:PT1440M
X-PUBLISHED-TTL:PT1440M
BEGIN:VTIMEZONE
TZID:Etc/GMT+0
BEGIN:STANDARD
DTSTART:20250720T100000Z
TZOFFSETFROM:+0000
TZOFFSETTO:+0000
END:STANDARD
END:VTIMEZONE
BEGIN:VTIMEZONE
TZID:UTC
BEGIN:STANDARD
DTSTART:20250726T163003Z
TZOFFSETFROM:+0000
TZOFFSETTO:+0000
END:STANDARD
END:VTIMEZONE
BEGIN:VEVENT
UID:96-79
DTSTAMP:20260422T163003Z
SUMMARY:Councilman Anthony Bonna - Book Reading
LOCATION:
ORGANIZER;CN=mserret:MAILTO:mserret@lightbridgeacademy.com
DTSTART;TZID=Etc/GMT+0:20260416T100000
DTEND;TZID=Etc/GMT+0:20260416T110000
X-ALT-DESC;FMTTYPE=TEXT/HTML:
CATEGORIES:General
URL;VALUE=URI:https://lightbridgeacademy.com/port-st-lucie-fl/mc-events/cou
 ncilman-anthony-bonna-book-reading/
METHOD:PUBLISH
END:VEVENT
END:VCALENDAR