BEGIN:VCALENDAR
VERSION:2.0
PRODID:spatie/icalendar-generator
DESCRIPTION:Events from Port St. Lucie\, FL
X-WR-CALDESC:Events from Port St. Lucie\, FL
REFRESH-INTERVAL;VALUE=DURATION:PT1440M
X-PUBLISHED-TTL:PT1440M
BEGIN:VTIMEZONE
TZID:Etc/GMT+0
BEGIN:STANDARD
DTSTART:20250717T000000Z
TZOFFSETFROM:+0000
TZOFFSETTO:+0000
END:STANDARD
END:VTIMEZONE
BEGIN:VTIMEZONE
TZID:UTC
BEGIN:STANDARD
DTSTART:20250726T163018Z
TZOFFSETFROM:+0000
TZOFFSETTO:+0000
END:STANDARD
END:VTIMEZONE
BEGIN:VEVENT
UID:94-78
DTSTAMP:20260422T163018Z
SUMMARY:Week of the Young Child
LOCATION:
ORGANIZER;CN=mserret:MAILTO:mserret@lightbridgeacademy.com
DTSTART;TZID=Etc/GMT+0;VALUE=DATE:20260413
DTEND;TZID=Etc/GMT+0;VALUE=DATE:20260418
X-ALT-DESC;FMTTYPE=TEXT/HTML:A celebration of young children and the people
  who support their learning and growth.
CATEGORIES:General
URL;VALUE=URI:https://lightbridgeacademy.com/port-st-lucie-fl/mc-events/wee
 k-of-the-young-child/
METHOD:PUBLISH
END:VEVENT
END:VCALENDAR