BEGIN:VCALENDAR
VERSION:2.0
PRODID:spatie/icalendar-generator
DESCRIPTION:Events from Port St. Lucie\, FL
X-WR-CALDESC:Events from Port St. Lucie\, FL
REFRESH-INTERVAL;VALUE=DURATION:PT1440M
X-PUBLISHED-TTL:PT1440M
BEGIN:VTIMEZONE
TZID:Etc/GMT+0
BEGIN:STANDARD
DTSTART:20250707T000000Z
TZOFFSETFROM:+0000
TZOFFSETTO:+0000
END:STANDARD
END:VTIMEZONE
BEGIN:VTIMEZONE
TZID:UTC
BEGIN:STANDARD
DTSTART:20250726T163923Z
TZOFFSETFROM:+0000
TZOFFSETTO:+0000
END:STANDARD
END:VTIMEZONE
BEGIN:VEVENT
UID:74-61
DTSTAMP:20260422T163923Z
SUMMARY:Closed for Good Friday Observance
LOCATION:
ORGANIZER;CN=Dawn Moonsammy:MAILTO:dmoonsammy@lightbridgeacademy.com
DTSTART;TZID=Etc/GMT+0;VALUE=DATE:20260403
DTEND;TZID=Etc/GMT+0;VALUE=DATE:20260404
X-ALT-DESC;FMTTYPE=TEXT/HTML:
CATEGORIES:General
URL;VALUE=URI:https://lightbridgeacademy.com/port-st-lucie-fl/mc-events/clo
 sed-for-good-friday-observance/
METHOD:PUBLISH
END:VEVENT
END:VCALENDAR