BEGIN:VCALENDAR
VERSION:2.0
PRODID:spatie/icalendar-generator
DESCRIPTION:Events from Iselin\, NJ
X-WR-CALDESC:Events from Iselin\, NJ
REFRESH-INTERVAL;VALUE=DURATION:PT1440M
X-PUBLISHED-TTL:PT1440M
BEGIN:VTIMEZONE
TZID:Etc/GMT+0
BEGIN:STANDARD
DTSTART:20250717T000000Z
TZOFFSETFROM:+0000
TZOFFSETTO:+0000
END:STANDARD
END:VTIMEZONE
BEGIN:VTIMEZONE
TZID:UTC
BEGIN:STANDARD
DTSTART:20250724T095807Z
TZOFFSETFROM:+0000
TZOFFSETTO:+0000
END:STANDARD
END:VTIMEZONE
BEGIN:VEVENT
UID:605-596
DTSTAMP:20260420T095807Z
SUMMARY:Open House Week!
LOCATION:
ORGANIZER;CN=krocha@lightbridgeacademy.com:MAILTO:KRocha@lightbridgeacademy
 .com
DTSTART;TZID=Etc/GMT+0;VALUE=DATE:20260413
DTEND;TZID=Etc/GMT+0;VALUE=DATE:20260516
X-ALT-DESC;FMTTYPE=TEXT/HTML:We saved a seat for you and your family!! We a
 re enrolling from infants\, toddlers\, preschool/prek\, and summer camp 
 ☀️ Make sure to call us to find out how to receive one week free!
CATEGORIES:General
URL;VALUE=URI:https://lightbridgeacademy.com/iselin-nj/mc-events/open-house
 -week-5/
METHOD:PUBLISH
END:VEVENT
END:VCALENDAR