BEGIN:VCALENDAR
VERSION:2.0
PRODID:spatie/icalendar-generator
DESCRIPTION:Events from Glenside\, PA
X-WR-CALDESC:Events from Glenside\, PA
REFRESH-INTERVAL;VALUE=DURATION:PT1440M
X-PUBLISHED-TTL:PT1440M
BEGIN:VTIMEZONE
TZID:Etc/GMT+0
BEGIN:STANDARD
DTSTART:20250704T000000Z
TZOFFSETFROM:+0000
TZOFFSETTO:+0000
END:STANDARD
END:VTIMEZONE
BEGIN:VTIMEZONE
TZID:UTC
BEGIN:STANDARD
DTSTART:20250725T175158Z
TZOFFSETFROM:+0000
TZOFFSETTO:+0000
END:STANDARD
END:VTIMEZONE
BEGIN:VEVENT
UID:810-355
DTSTAMP:20260421T175158Z
SUMMARY:Sports Play Patrol
LOCATION:
ORGANIZER;CN=jhines:MAILTO:jhines@lightbridgeacademy.com
RRULE:FREQ=WEEKLY;UNTIL=20260901T000000Z
DTSTART;TZID=Etc/GMT+0;VALUE=DATE:20260331
DTEND;TZID=Etc/GMT+0;VALUE=DATE:20260401
X-ALT-DESC;FMTTYPE=TEXT/HTML:
CATEGORIES:General
URL;VALUE=URI:https://lightbridgeacademy.com/glenside-pa/mc-events/sports-p
 lay-patrol/?mc_id=810
METHOD:PUBLISH
END:VEVENT
END:VCALENDAR