BEGIN:VCALENDAR
VERSION:2.0
PRODID:spatie/icalendar-generator
DESCRIPTION:Events from Glenside\, PA
X-WR-CALDESC:Events from Glenside\, PA
REFRESH-INTERVAL;VALUE=DURATION:PT1440M
X-PUBLISHED-TTL:PT1440M
BEGIN:VTIMEZONE
TZID:Etc/GMT+0
BEGIN:STANDARD
DTSTART:20250707T000000Z
TZOFFSETFROM:+0000
TZOFFSETTO:+0000
END:STANDARD
END:VTIMEZONE
BEGIN:VTIMEZONE
TZID:UTC
BEGIN:STANDARD
DTSTART:20250725T175147Z
TZOFFSETFROM:+0000
TZOFFSETTO:+0000
END:STANDARD
END:VTIMEZONE
BEGIN:VEVENT
UID:694-309
DTSTAMP:20260421T175147Z
SUMMARY:Spring Holiday School Closed
LOCATION:
ORGANIZER;CN=jhines:MAILTO:jhines@lightbridgeacademy.com
DTSTART;TZID=Etc/GMT+0;VALUE=DATE:20260403
DTEND;TZID=Etc/GMT+0;VALUE=DATE:20260404
X-ALT-DESC;FMTTYPE=TEXT/HTML:
CATEGORIES:General
URL;VALUE=URI:https://lightbridgeacademy.com/glenside-pa/mc-events/spring-h
 oliday-school-closed/
METHOD:PUBLISH
END:VEVENT
END:VCALENDAR