BEGIN:VCALENDAR
VERSION:2.0
PRODID:spatie/icalendar-generator
DESCRIPTION:Events from Glenside\, PA
X-WR-CALDESC:Events from Glenside\, PA
REFRESH-INTERVAL;VALUE=DURATION:PT1440M
X-PUBLISHED-TTL:PT1440M
BEGIN:VTIMEZONE
TZID:Etc/GMT+0
BEGIN:STANDARD
DTSTART:20250625T000000Z
TZOFFSETFROM:+0000
TZOFFSETTO:+0000
END:STANDARD
END:VTIMEZONE
BEGIN:VTIMEZONE
TZID:UTC
BEGIN:STANDARD
DTSTART:20250725T175157Z
TZOFFSETFROM:+0000
TZOFFSETTO:+0000
END:STANDARD
END:VTIMEZONE
BEGIN:VEVENT
UID:693-308
DTSTAMP:20260421T175157Z
SUMMARY:March Madness Brackets Women's Basketball!
LOCATION:
ORGANIZER;CN=jhines:MAILTO:jhines@lightbridgeacademy.com
DTSTART;TZID=Etc/GMT+0;VALUE=DATE:20260322
DTEND;TZID=Etc/GMT+0;VALUE=DATE:20260405
X-ALT-DESC;FMTTYPE=TEXT/HTML:
CATEGORIES:General
URL;VALUE=URI:https://lightbridgeacademy.com/glenside-pa/mc-events/march-ma
 dness-brackets-womens-basketball/
METHOD:PUBLISH
END:VEVENT
END:VCALENDAR