BEGIN:VCALENDAR
VERSION:2.0
PRODID:spatie/icalendar-generator
DESCRIPTION:Events from Fort Washington\, PA
X-WR-CALDESC:Events from Fort Washington\, PA
REFRESH-INTERVAL;VALUE=DURATION:PT1440M
X-PUBLISHED-TTL:PT1440M
BEGIN:VTIMEZONE
TZID:Etc/GMT+0
BEGIN:STANDARD
DTSTART:20250706T180000Z
TZOFFSETFROM:+0000
TZOFFSETTO:+0000
END:STANDARD
END:VTIMEZONE
BEGIN:VTIMEZONE
TZID:UTC
BEGIN:STANDARD
DTSTART:20250727T000228Z
TZOFFSETFROM:+0000
TZOFFSETTO:+0000
END:STANDARD
END:VTIMEZONE
BEGIN:VEVENT
UID:7425-160
DTSTAMP:20260423T000228Z
SUMMARY:Egg Hunt
LOCATION:
ORGANIZER;CN=awagmanmenno:MAILTO:awagmanmenno@lightbridgeacademy.com
DTSTART;TZID=Etc/GMT+0:20260402T180000
DTEND;TZID=Etc/GMT+0:20260402T190000
X-ALT-DESC;FMTTYPE=TEXT/HTML:
CATEGORIES:General
URL;VALUE=URI:https://lightbridgeacademy.com/fort-washington-pa/mc-events/e
 gg-hunt-2/
METHOD:PUBLISH
END:VEVENT
END:VCALENDAR