BEGIN:VCALENDAR
VERSION:2.0
PRODID:spatie/icalendar-generator
DESCRIPTION:Events from Elmsford\, NY
X-WR-CALDESC:Events from Elmsford\, NY
REFRESH-INTERVAL;VALUE=DURATION:PT1440M
X-PUBLISHED-TTL:PT1440M
BEGIN:VTIMEZONE
TZID:Etc/GMT+0
BEGIN:STANDARD
DTSTART:20250804T173000Z
TZOFFSETFROM:+0000
TZOFFSETTO:+0000
END:STANDARD
END:VTIMEZONE
BEGIN:VTIMEZONE
TZID:UTC
BEGIN:STANDARD
DTSTART:20250726T102159Z
TZOFFSETFROM:+0000
TZOFFSETTO:+0000
END:STANDARD
END:VTIMEZONE
BEGIN:VEVENT
UID:90-37
DTSTAMP:20260422T102159Z
SUMMARY:Spring Fling Event
LOCATION:
ORGANIZER;CN=jvoehl@lightbridgeacademy.com:MAILTO:jvoehl@lightbridgeacademy
 .com
DTSTART;TZID=Etc/GMT+0:20260501T173000
DTEND;TZID=Etc/GMT+0:20260501T193000
X-ALT-DESC;FMTTYPE=TEXT/HTML:We are excited to invite you and your family t
 o our SPRING FLING EVENT at Lightbridge Academy. This fun-filled event wil
 l take place on Friday May 1st\,  2026 5:30-7:30pm at Lightbridge Academy
  of Elmsford\, and promises to be a wonderful evening for all ages.  Join
  us for a variety of exciting activities\, including: Spring crafts\,&amp;hell
 ip\;
CATEGORIES:General
URL;VALUE=URI:https://lightbridgeacademy.com/elmsford-ny/mc-events/spring-f
 ling-event/
METHOD:PUBLISH
END:VEVENT
END:VCALENDAR