BEGIN:VCALENDAR
VERSION:2.0
PRODID:spatie/icalendar-generator
DESCRIPTION:Events from Elmsford\, NY
X-WR-CALDESC:Events from Elmsford\, NY
REFRESH-INTERVAL;VALUE=DURATION:PT1440M
X-PUBLISHED-TTL:PT1440M
BEGIN:VTIMEZONE
TZID:Etc/GMT+0
BEGIN:STANDARD
DTSTART:20250718T063000Z
TZOFFSETFROM:+0000
TZOFFSETTO:+0000
END:STANDARD
END:VTIMEZONE
BEGIN:VTIMEZONE
TZID:UTC
BEGIN:STANDARD
DTSTART:20250726T102305Z
TZOFFSETFROM:+0000
TZOFFSETTO:+0000
END:STANDARD
END:VTIMEZONE
BEGIN:VEVENT
UID:88-35
DTSTAMP:20260422T102305Z
SUMMARY:Week of the Young Child
LOCATION:
ORGANIZER;CN=jvoehl@lightbridgeacademy.com:MAILTO:jvoehl@lightbridgeacademy
 .com
DTSTART;TZID=Etc/GMT+0:20260414T063000
DTEND;TZID=Etc/GMT+0:20260418T183000
X-ALT-DESC;FMTTYPE=TEXT/HTML:
CATEGORIES:General
URL;VALUE=URI:https://lightbridgeacademy.com/elmsford-ny/mc-events/week-of-
 the-young-child/
METHOD:PUBLISH
END:VEVENT
END:VCALENDAR