BEGIN:VCALENDAR
VERSION:2.0
PRODID:spatie/icalendar-generator
DESCRIPTION:Events from Elmsford\, NY
X-WR-CALDESC:Events from Elmsford\, NY
REFRESH-INTERVAL;VALUE=DURATION:PT1440M
X-PUBLISHED-TTL:PT1440M
BEGIN:VTIMEZONE
TZID:Etc/GMT+0
BEGIN:STANDARD
DTSTART:20250719T063000Z
TZOFFSETFROM:+0000
TZOFFSETTO:+0000
END:STANDARD
END:VTIMEZONE
BEGIN:VTIMEZONE
TZID:UTC
BEGIN:STANDARD
DTSTART:20250726T102158Z
TZOFFSETFROM:+0000
TZOFFSETTO:+0000
END:STANDARD
END:VTIMEZONE
BEGIN:VEVENT
UID:87-34
DTSTAMP:20260422T102158Z
SUMMARY:Spring Open House
LOCATION:
ORGANIZER;CN=jvoehl@lightbridgeacademy.com:MAILTO:jvoehl@lightbridgeacademy
 .com
DTSTART;TZID=Etc/GMT+0:20260415T063000
DTEND;TZID=Etc/GMT+0:20260515T183000
X-ALT-DESC;FMTTYPE=TEXT/HTML:
CATEGORIES:General
URL;VALUE=URI:https://lightbridgeacademy.com/elmsford-ny/mc-events/spring-o
 pen-house/
METHOD:PUBLISH
END:VEVENT
END:VCALENDAR