BEGIN:VCALENDAR
VERSION:2.0
PRODID:spatie/icalendar-generator
DESCRIPTION:Events from Champlin\, MN
X-WR-CALDESC:Events from Champlin\, MN
REFRESH-INTERVAL;VALUE=DURATION:PT1440M
X-PUBLISHED-TTL:PT1440M
BEGIN:VTIMEZONE
TZID:Etc/GMT+0
BEGIN:STANDARD
DTSTART:20250726T000000Z
TZOFFSETFROM:+0000
TZOFFSETTO:+0000
END:STANDARD
END:VTIMEZONE
BEGIN:VTIMEZONE
TZID:UTC
BEGIN:STANDARD
DTSTART:20250729T001559Z
TZOFFSETFROM:+0000
TZOFFSETTO:+0000
END:STANDARD
END:VTIMEZONE
BEGIN:VEVENT
UID:871-725
DTSTAMP:20260425T001559Z
SUMMARY:📸Picture Day📸
LOCATION:
ORGANIZER;CN=atopp:MAILTO:atopp@lightbridgeacademy.com
DTSTART;TZID=Etc/GMT+0;VALUE=DATE:20260422
DTEND;TZID=Etc/GMT+0;VALUE=DATE:20260423
X-ALT-DESC;FMTTYPE=TEXT/HTML:
CATEGORIES:General
URL;VALUE=URI:https://lightbridgeacademy.com/champlin-mn/mc-events/%f0%9f%9
 3%b8picture-day%f0%9f%93%b8/
METHOD:PUBLISH
END:VEVENT
END:VCALENDAR