BEGIN:VCALENDAR
VERSION:2.0
PRODID:spatie/icalendar-generator
DESCRIPTION:Events from Champlin\, MN
X-WR-CALDESC:Events from Champlin\, MN
REFRESH-INTERVAL;VALUE=DURATION:PT1440M
X-PUBLISHED-TTL:PT1440M
BEGIN:VTIMEZONE
TZID:Etc/GMT+0
BEGIN:STANDARD
DTSTART:20250727T170000Z
TZOFFSETFROM:+0000
TZOFFSETTO:+0000
END:STANDARD
END:VTIMEZONE
BEGIN:VTIMEZONE
TZID:UTC
BEGIN:STANDARD
DTSTART:20250729T150442Z
TZOFFSETFROM:+0000
TZOFFSETTO:+0000
END:STANDARD
END:VTIMEZONE
BEGIN:VEVENT
UID:856-711
DTSTAMP:20260425T150442Z
SUMMARY:Open House
LOCATION:
ORGANIZER;CN=atopp:MAILTO:atopp@lightbridgeacademy.com
DTSTART;TZID=Etc/GMT+0:20260423T170000
DTEND;TZID=Etc/GMT+0:20260423T190000
X-ALT-DESC;FMTTYPE=TEXT/HTML:
CATEGORIES:General
URL;VALUE=URI:https://lightbridgeacademy.com/champlin-mn/mc-events/open-hou
 se-2/
METHOD:PUBLISH
END:VEVENT
END:VCALENDAR