BEGIN:VCALENDAR
VERSION:2.0
PRODID:spatie/icalendar-generator
DESCRIPTION:Events from Cary\, NC
X-WR-CALDESC:Events from Cary\, NC
REFRESH-INTERVAL;VALUE=DURATION:PT1440M
X-PUBLISHED-TTL:PT1440M
BEGIN:VTIMEZONE
TZID:Etc/GMT+0
BEGIN:STANDARD
DTSTART:20250720T173000Z
TZOFFSETFROM:+0000
TZOFFSETTO:+0000
END:STANDARD
END:VTIMEZONE
BEGIN:VTIMEZONE
TZID:UTC
BEGIN:STANDARD
DTSTART:20250729T152242Z
TZOFFSETFROM:+0000
TZOFFSETTO:+0000
END:STANDARD
END:VTIMEZONE
BEGIN:VEVENT
UID:123-107
DTSTAMP:20260425T152242Z
SUMMARY:Curriculum Night
LOCATION:
ORGANIZER;CN=cpower:MAILTO:CPower@Lightbridgeacademy.com
DTSTART;TZID=Etc/GMT+0:20260416T173000
DTEND;TZID=Etc/GMT+0:20260416T193000
X-ALT-DESC;FMTTYPE=TEXT/HTML:Join us for Curriculum Night at our center to 
 showcase all of the wonderful things happening at our center. Families can
  stop by and take a look around the center\, enjoy refreshments\, and lear
 n how to join in the fun everyday!
CATEGORIES:General
URL;VALUE=URI:https://lightbridgeacademy.com/cary-nc/mc-events/curriculum-n
 ight/
METHOD:PUBLISH
END:VEVENT
END:VCALENDAR