BEGIN:VCALENDAR
VERSION:2.0
PRODID:spatie/icalendar-generator
DESCRIPTION:Events from Cary\, NC
X-WR-CALDESC:Events from Cary\, NC
REFRESH-INTERVAL;VALUE=DURATION:PT1440M
X-PUBLISHED-TTL:PT1440M
BEGIN:VTIMEZONE
TZID:Etc/GMT+0
BEGIN:STANDARD
DTSTART:20250803T100000Z
TZOFFSETFROM:+0000
TZOFFSETTO:+0000
END:STANDARD
END:VTIMEZONE
BEGIN:VTIMEZONE
TZID:UTC
BEGIN:STANDARD
DTSTART:20250729T152251Z
TZOFFSETFROM:+0000
TZOFFSETTO:+0000
END:STANDARD
END:VTIMEZONE
BEGIN:VEVENT
UID:110-106
DTSTAMP:20260425T152251Z
SUMMARY:Circle Time with Mrs. Christina &amp;amp\; Ms. Kezia
LOCATION:
ORGANIZER;CN=cpower:MAILTO:CPower@Lightbridgeacademy.com
RRULE:FREQ=WEEKLY;UNTIL=20260730T000000Z
DTSTART;TZID=Etc/GMT+0:20260430T100000
DTEND;TZID=Etc/GMT+0:20260430T103000
X-ALT-DESC;FMTTYPE=TEXT/HTML:We’re excited to welcome families in our com
 munity to a fun and engaging circle time experience designed for young chi
 ldren and their caregivers. Each week\, children will enjoy songs\, storie
 s\, movement\, and hands-on activities that support early learning and soc
 ial development. This is a wonderful opportunity to connect with other fam
 ilies\, explore new activities\, and&amp;hellip\;
CATEGORIES:General
URL;VALUE=URI:https://lightbridgeacademy.com/cary-nc/mc-events/circle-time-
 with-mrs-christina-ms-kezia/?mc_id=110
METHOD:PUBLISH
END:VEVENT
END:VCALENDAR