BEGIN:VCALENDAR
VERSION:2.0
PRODID:spatie/icalendar-generator
DESCRIPTION:Events from Cary\, NC
X-WR-CALDESC:Events from Cary\, NC
REFRESH-INTERVAL;VALUE=DURATION:PT1440M
X-PUBLISHED-TTL:PT1440M
BEGIN:VTIMEZONE
TZID:Etc/GMT+0
BEGIN:STANDARD
DTSTART:20250715T100000Z
TZOFFSETFROM:+0000
TZOFFSETTO:+0000
END:STANDARD
END:VTIMEZONE
BEGIN:VTIMEZONE
TZID:UTC
BEGIN:STANDARD
DTSTART:20250729T152333Z
TZOFFSETFROM:+0000
TZOFFSETTO:+0000
END:STANDARD
END:VTIMEZONE
BEGIN:VEVENT
UID:106-105
DTSTAMP:20260425T152333Z
SUMMARY:Grand Opening Celebration!
LOCATION:
ORGANIZER;CN=cpower:MAILTO:CPower@Lightbridgeacademy.com
DTSTART;TZID=Etc/GMT+0:20260411T100000
DTEND;TZID=Etc/GMT+0:20260411T140000
X-ALT-DESC;FMTTYPE=TEXT/HTML:
CATEGORIES:General
URL;VALUE=URI:https://lightbridgeacademy.com/cary-nc/mc-events/grand-openin
 g-celebration-2/
METHOD:PUBLISH
END:VEVENT
END:VCALENDAR