BEGIN:VCALENDAR
VERSION:2.0
PRODID:spatie/icalendar-generator
DESCRIPTION:Events from Blue Bell\, PA
X-WR-CALDESC:Events from Blue Bell\, PA
REFRESH-INTERVAL;VALUE=DURATION:PT1440M
X-PUBLISHED-TTL:PT1440M
BEGIN:VTIMEZONE
TZID:Etc/GMT+0
BEGIN:STANDARD
DTSTART:20250719T000000Z
TZOFFSETFROM:+0000
TZOFFSETTO:+0000
END:STANDARD
END:VTIMEZONE
BEGIN:VTIMEZONE
TZID:UTC
BEGIN:STANDARD
DTSTART:20250726T165636Z
TZOFFSETFROM:+0000
TZOFFSETTO:+0000
END:STANDARD
END:VTIMEZONE
BEGIN:VEVENT
UID:90-85
DTSTAMP:20260422T165636Z
SUMMARY:Work Together Wednesday 🧑‍🤝‍🧑
LOCATION:
ORGANIZER;CN=kkelco:MAILTO:KKelco@lightbridgeacademy.com
DTSTART;TZID=Etc/GMT+0;VALUE=DATE:20260415
DTEND;TZID=Etc/GMT+0;VALUE=DATE:20260416
X-ALT-DESC;FMTTYPE=TEXT/HTML:
CATEGORIES:General
URL;VALUE=URI:https://lightbridgeacademy.com/blue-bell-pa/mc-events/work-to
 gether-wednesday-%f0%9f%a7%91%f0%9f%a4%9d%f0%9f%a7%91/
METHOD:PUBLISH
END:VEVENT
END:VCALENDAR