BEGIN:VCALENDAR
VERSION:2.0
PRODID:spatie/icalendar-generator
DESCRIPTION:Events from Blue Bell\, PA
X-WR-CALDESC:Events from Blue Bell\, PA
REFRESH-INTERVAL;VALUE=DURATION:PT1440M
X-PUBLISHED-TTL:PT1440M
BEGIN:VTIMEZONE
TZID:Etc/GMT+0
BEGIN:STANDARD
DTSTART:20250804T180000Z
TZOFFSETFROM:+0000
TZOFFSETTO:+0000
END:STANDARD
END:VTIMEZONE
BEGIN:VTIMEZONE
TZID:UTC
BEGIN:STANDARD
DTSTART:20250726T165651Z
TZOFFSETFROM:+0000
TZOFFSETTO:+0000
END:STANDARD
END:VTIMEZONE
BEGIN:VEVENT
UID:86-81
DTSTAMP:20260422T165651Z
SUMMARY:Art Show &amp;amp\; Auction 🖼️🎨
LOCATION:
ORGANIZER;CN=kkelco:MAILTO:KKelco@lightbridgeacademy.com
DTSTART;TZID=Etc/GMT+0:20260501T180000
DTEND;TZID=Etc/GMT+0:20260501T200000
X-ALT-DESC;FMTTYPE=TEXT/HTML:
CATEGORIES:General
URL;VALUE=URI:https://lightbridgeacademy.com/blue-bell-pa/mc-events/art-sho
 w-auction-%f0%9f%96%bc%ef%b8%8f%f0%9f%8e%a8/
METHOD:PUBLISH
END:VEVENT
END:VCALENDAR