BEGIN:VCALENDAR
VERSION:2.0
PRODID:spatie/icalendar-generator
DESCRIPTION:Events from Bethlehem\, PA
X-WR-CALDESC:Events from Bethlehem\, PA
REFRESH-INTERVAL;VALUE=DURATION:PT1440M
X-PUBLISHED-TTL:PT1440M
BEGIN:VTIMEZONE
TZID:Etc/GMT+0
BEGIN:STANDARD
DTSTART:20250802T000000Z
TZOFFSETFROM:+0000
TZOFFSETTO:+0000
END:STANDARD
END:VTIMEZONE
BEGIN:VTIMEZONE
TZID:UTC
BEGIN:STANDARD
DTSTART:20250725T161239Z
TZOFFSETFROM:+0000
TZOFFSETTO:+0000
END:STANDARD
END:VTIMEZONE
BEGIN:VEVENT
UID:211-202
DTSTAMP:20260421T161239Z
SUMMARY:Dress like your favorite fairytale character!!
LOCATION:
ORGANIZER;CN=msnyder:MAILTO:MSnyder@lightbridgeacademy.com
DTSTART;TZID=Etc/GMT+0;VALUE=DATE:20260429
DTEND;TZID=Etc/GMT+0;VALUE=DATE:20260430
X-ALT-DESC;FMTTYPE=TEXT/HTML:
CATEGORIES:General
URL;VALUE=URI:https://lightbridgeacademy.com/bethlehem-pa/mc-events/dress-l
 ike-your-favorite-fairytale-character-2/
METHOD:PUBLISH
END:VEVENT
END:VCALENDAR