BEGIN:VCALENDAR
VERSION:2.0
PRODID:spatie/icalendar-generator
DESCRIPTION:Events from Allentown PA
X-WR-CALDESC:Events from Allentown PA
REFRESH-INTERVAL;VALUE=DURATION:PT1440M
X-PUBLISHED-TTL:PT1440M
BEGIN:VTIMEZONE
TZID:Etc/GMT+0
BEGIN:STANDARD
DTSTART:20250707T000000Z
TZOFFSETFROM:+0000
TZOFFSETTO:+0000
END:STANDARD
END:VTIMEZONE
BEGIN:VTIMEZONE
TZID:UTC
BEGIN:STANDARD
DTSTART:20250724T112420Z
TZOFFSETFROM:+0000
TZOFFSETTO:+0000
END:STANDARD
END:VTIMEZONE
BEGIN:VEVENT
UID:605-143
DTSTAMP:20260420T112420Z
SUMMARY:Spring Holiday (School Closed)
LOCATION:
ORGANIZER;CN=areifsnyder:MAILTO:AReifsnyder@lightbridgeacademy.com
DTSTART;TZID=Etc/GMT+0;VALUE=DATE:20260403
DTEND;TZID=Etc/GMT+0;VALUE=DATE:20260404
X-ALT-DESC;FMTTYPE=TEXT/HTML:
CATEGORIES:General
URL;VALUE=URI:https://lightbridgeacademy.com/allentown-pa/mc-events/spring-
 holiday-school-closed/
METHOD:PUBLISH
END:VEVENT
END:VCALENDAR