BEGIN:VCALENDAR
VERSION:2.0
PRODID:spatie/icalendar-generator
DESCRIPTION:Events from Allentown PA
X-WR-CALDESC:Events from Allentown PA
REFRESH-INTERVAL;VALUE=DURATION:PT1440M
X-PUBLISHED-TTL:PT1440M
BEGIN:VTIMEZONE
TZID:Etc/GMT+0
BEGIN:STANDARD
DTSTART:20250705T000000Z
TZOFFSETFROM:+0000
TZOFFSETTO:+0000
END:STANDARD
END:VTIMEZONE
BEGIN:VTIMEZONE
TZID:UTC
BEGIN:STANDARD
DTSTART:20250724T112926Z
TZOFFSETFROM:+0000
TZOFFSETTO:+0000
END:STANDARD
END:VTIMEZONE
BEGIN:VEVENT
UID:550-158
DTSTAMP:20260420T112926Z
SUMMARY:Amazing Athletes!
LOCATION:
ORGANIZER;CN=areifsnyder:MAILTO:AReifsnyder@lightbridgeacademy.com
RRULE:FREQ=WEEKLY;UNTIL=20260930T000000Z
DTSTART;TZID=Etc/GMT+0;VALUE=DATE:20260401
DTEND;TZID=Etc/GMT+0;VALUE=DATE:20260402
X-ALT-DESC;FMTTYPE=TEXT/HTML:
CATEGORIES:General
URL;VALUE=URI:https://lightbridgeacademy.com/allentown-pa/mc-events/amazing
 -athletes-2/?mc_id=550
METHOD:PUBLISH
END:VEVENT
END:VCALENDAR