BEGIN:VCALENDAR
VERSION:2.0
PRODID:spatie/icalendar-generator
DESCRIPTION:Events from Allentown PA
X-WR-CALDESC:Events from Allentown PA
REFRESH-INTERVAL;VALUE=DURATION:PT1440M
X-PUBLISHED-TTL:PT1440M
BEGIN:VTIMEZONE
TZID:Etc/GMT+0
BEGIN:STANDARD
DTSTART:20250704T000000Z
TZOFFSETFROM:+0000
TZOFFSETTO:+0000
END:STANDARD
END:VTIMEZONE
BEGIN:VTIMEZONE
TZID:UTC
BEGIN:STANDARD
DTSTART:20250724T112824Z
TZOFFSETFROM:+0000
TZOFFSETTO:+0000
END:STANDARD
END:VTIMEZONE
BEGIN:VEVENT
UID:432-148
DTSTAMP:20260420T112824Z
SUMMARY:Music with Mr. Mark
LOCATION:
ORGANIZER;CN=areifsnyder:MAILTO:AReifsnyder@lightbridgeacademy.com
RRULE:FREQ=WEEKLY;UNTIL=20260930T000000Z
DTSTART;TZID=Etc/GMT+0;VALUE=DATE:20260331
DTEND;TZID=Etc/GMT+0;VALUE=DATE:20260401
X-ALT-DESC;FMTTYPE=TEXT/HTML:
CATEGORIES:General
URL;VALUE=URI:https://lightbridgeacademy.com/allentown-pa/mc-events/music-w
 ith-mr-mark-6/?mc_id=432
METHOD:PUBLISH
END:VEVENT
END:VCALENDAR